BEGIN:VCALENDAR
VERSION:2.0
PRODID:-//Cathrine Summers - ECPv4.9.13//NONSGML v1.0//EN
CALSCALE:GREGORIAN
METHOD:PUBLISH
X-WR-CALNAME:Cathrine Summers
X-ORIGINAL-URL:https://cathrinesummers.com.au
X-WR-CALDESC:Events for Cathrine Summers
BEGIN:VTIMEZONE
TZID:Asia/Shanghai
BEGIN:STANDARD
TZOFFSETFROM:+0800
TZOFFSETTO:+0800
TZNAME:CST
DTSTART:20190101T000000
END:STANDARD
END:VTIMEZONE
BEGIN:VEVENT
DTSTART;TZID=Asia/Shanghai:20191011T190000
DTEND;TZID=Asia/Shanghai:20191011T223000
DTSTAMP:20200301T225504
CREATED:20190803T051959Z
LAST-MODIFIED:20191003T230229Z
UID:1256-1570820400-1570833000@cathrinesummers.com.au
SUMMARY:Duke of George: Let's Misbehave - The Songs of Cole Porter presented by Cathrine Summers
DESCRIPTION:Let’s Misbehave – The Songs of Cole Porter presented by Cathrine Summers \nDoors open at 6pm\, bands starts at 7pm \nClick here for tickets \nTogether with her quartet Cathrine Summers presents ‘Let’s Misbehave – The songs of Cole Porter’\, a unique lively sophisticated collection of songs from arguably\, the greatest American lyricist and composer in one – Cole Porter. Enjoy classics such as I Get A Kick Out of You\, \, I’ve Got You Under My Skin\, Night and Day\, De-Lovely\, Let’s Do It\, Let’s Fall in Love\, What Is This Thing Called Love and many many more. \nAfter a slow start to his career\, Cole Porter began to achieve success in the 1920s\, and by the 1930s he was one of the major songwriters for Broadway musicals. Porter’s output of over 2000 songs is an amazing quantity to achieve in a lifetime and Summers respectfully and intelligently presents some of these toe-tapping favourites intertwined with tid bits of Porters conflicted\, slightly risqué\, acclaimed life. \nCathrine’s ongoing passion to bring Jazz music to audiences in a fun\, engaging way across WA sees her performing her shows in places where previously people wouldn’t have had access to live music in this kind of a jazz lounge club sophisticated setting. \n“The quality that sets her apart from other singers is not only her unique voice\, it’s that people of all ages feel ‘instantly familiar’ with her and soak up her banter and on-stage charisma.” – The Music Review. \n
URL:https://cathrinesummers.com.au/gig/lets-misbehave/
LOCATION:Duke of George\, 36 Duke Street\, East Fremantle\, WA\, 6158\, Australia
END:VEVENT
END:VCALENDAR