BEGIN:VCALENDAR
VERSION:2.0
PRODID:-//Cathrine Summers - ECPv4.9.13//NONSGML v1.0//EN
CALSCALE:GREGORIAN
METHOD:PUBLISH
X-WR-CALNAME:Cathrine Summers
X-ORIGINAL-URL:https://cathrinesummers.com.au
X-WR-CALDESC:Events for Cathrine Summers
BEGIN:VTIMEZONE
TZID:Asia/Shanghai
BEGIN:STANDARD
TZOFFSETFROM:+0800
TZOFFSETTO:+0800
TZNAME:CST
DTSTART:20190101T000000
END:STANDARD
END:VTIMEZONE
BEGIN:VEVENT
DTSTART;TZID=Asia/Shanghai:20191027T160000
DTEND;TZID=Asia/Shanghai:20191027T193000
DTSTAMP:20200301T225536
CREATED:20190803T050956Z
LAST-MODIFIED:20190803T050956Z
UID:1287-1572192000-1572204600@cathrinesummers.com.au
SUMMARY:Sunday Session at The Point Bar and Grill – Groove Trio
DESCRIPTION:Come and groove to a mix of top 40\, old school soul\, R&B and British pop classics in a café del mar style groove vibe. Consisting of keys\, guitar and vocals from Cathrine Summers this Groove Trio blends genres and bend songs. For example\, enjoy Moves Like Jagger as a hip hop jam vibe topped with smokey Amy Winehouse vocals. \nThe up-beat sounds of this ‘like-a-version’ groove ensemble present clever versions of songs from Coldplay\, Jamiroquai\, Adele\, Amy Winehouse\, Ed Sheeran\, Stevie Wonder\, Michael Jackson\, JT\, Pharell Williams\, The Beatles\, Annie Lennox\, Aretha Franklin and many more… \nSummers delights her guests with her infectious humour and natural playful charisma. She has a uniquely versatile tone that delivers warmth with a soft\, floaty quality\, as well as a raspy\, deep and bluesy sound. Her undeniable on-stage charisma and playful banter gives her audiences a fun and mischievous candour. \nSee you there for an infectious afternoon. \n
URL:https://cathrinesummers.com.au/gig/sunday-session-at-the-point-bar-and-grill-groove-trio/2019-10-27/
LOCATION:On The Point – Bar & Grill\, 306 Riverside Drive\, Perth\, WA\, 6004\, Australia
GEO:-31.9645769;115.8783768
X-APPLE-STRUCTURED-LOCATION;VALUE=URI;X-ADDRESS=On The Point – Bar & Grill 306 Riverside Drive Perth WA 6004 Australia;X-APPLE-RADIUS=500;X-TITLE=306 Riverside Drive:geo:115.8783768,-31.9645769
END:VEVENT
END:VCALENDAR