BEGIN:VCALENDAR
VERSION:2.0
PRODID:-//Cathrine Summers - ECPv4.9.13//NONSGML v1.0//EN
CALSCALE:GREGORIAN
METHOD:PUBLISH
X-WR-CALNAME:Cathrine Summers
X-ORIGINAL-URL:https://cathrinesummers.com.au
X-WR-CALDESC:Events for Cathrine Summers
BEGIN:VTIMEZONE
TZID:Asia/Shanghai
BEGIN:STANDARD
TZOFFSETFROM:+0800
TZOFFSETTO:+0800
TZNAME:CST
DTSTART:20190101T000000
END:STANDARD
END:VTIMEZONE
BEGIN:VEVENT
DTSTART;TZID=Asia/Shanghai:20191105T110000
DTEND;TZID=Asia/Shanghai:20191105T150000
DTSTAMP:20200301T223458
CREATED:20191018T064847Z
LAST-MODIFIED:20191018T064847Z
UID:1335-1572951600-1572966000@cathrinesummers.com.au
SUMMARY:Melbourne Cup Day @ The Royal East Perth
DESCRIPTION:An afternoon to celebrate Melbourne Cup Day in style! \nLunch and drinks on the East Perth waterfront\, with Cathrine Summers and her Groove Trio for entertainment. \nThe up-beat sounds of this ‘like-a-version’ groove ensemble present clever versions of songs from Coldplay\, Jamiroquai\, Adele\, Amy Winehouse\, Ed Sheeran\, Stevie Wonder\, Michael Jackson\, JT\, Pharell Williams\, The Beatles\, Annie Lennox\, Aretha Franklin and many more… \nSummers delights her guests with her infectious humour and natural playful charisma. She has a uniquely versatile tone that delivers warmth with a soft\, floaty quality\, as well as a raspy\, deep and bluesy sound. Her undeniable on-stage charisma and playful banter gives her audiences a fun and mischievous candour. \nSee you there for an infectious afternoon. \n
URL:https://cathrinesummers.com.au/gig/melbourne-cup-day-the-royal-east-perth/
LOCATION:The Royal\, 60 Royal Street\, Perth\, WA\, 6004\, Australia
END:VEVENT
END:VCALENDAR