BEGIN:VCALENDAR
VERSION:2.0
PRODID:-//Cathrine Summers - ECPv4.9.13//NONSGML v1.0//EN
CALSCALE:GREGORIAN
METHOD:PUBLISH
X-WR-CALNAME:Cathrine Summers
X-ORIGINAL-URL:https://cathrinesummers.com.au
X-WR-CALDESC:Events for Cathrine Summers
BEGIN:VTIMEZONE
TZID:Asia/Shanghai
BEGIN:STANDARD
TZOFFSETFROM:+0800
TZOFFSETTO:+0800
TZNAME:CST
DTSTART:20190101T000000
END:STANDARD
END:VTIMEZONE
BEGIN:VEVENT
DTSTART;TZID=Asia/Shanghai:20191231T200000
DTEND;TZID=Asia/Shanghai:20200101T000000
DTSTAMP:20200301T213707
CREATED:20191206T051650Z
LAST-MODIFIED:20191206T051650Z
UID:1333-1577822400-1577836800@cathrinesummers.com.au
SUMMARY:Jazz\, Magnums & Moonlight - NYE at The Shorehouse
DESCRIPTION:Come and celebrate New Years Eve in the gorgeous surrounds of WA’s coastline at The Shorehouse\, Swanbourne. \nTickets get you a four-course dinner\, as well as a cocktail upon arrival. \nThere will be a live jazz duo from 8:30pm\, with the Cathrine Summers Quartet performing from 9:30-midnight \n
URL:https://cathrinesummers.com.au/gig/jazz-magnums-moonlight-nye-at-the-shorehouse/
LOCATION:The Shorehouse\, 278 Marine Parade\, Swanbourne\, WA\, 6010\, Australia
END:VEVENT
END:VCALENDAR