BEGIN:VCALENDAR
VERSION:2.0
PRODID:-//Cathrine Summers - ECPv4.9.13//NONSGML v1.0//EN
CALSCALE:GREGORIAN
METHOD:PUBLISH
X-WR-CALNAME:Cathrine Summers
X-ORIGINAL-URL:https://cathrinesummers.com.au
X-WR-CALDESC:Events for Cathrine Summers
BEGIN:VTIMEZONE
TZID:Asia/Shanghai
BEGIN:STANDARD
TZOFFSETFROM:+0800
TZOFFSETTO:+0800
TZNAME:CST
DTSTART:20200101T000000
END:STANDARD
END:VTIMEZONE
BEGIN:VEVENT
DTSTART;TZID=Asia/Shanghai:20200130T183000
DTEND;TZID=Asia/Shanghai:20200130T210000
DTSTAMP:20200301T211745
CREATED:20200117T054022Z
LAST-MODIFIED:20200117T054022Z
UID:1476-1580409000-1580418000@cathrinesummers.com.au
SUMMARY:FRINGEWORLD - Cathrine Summers: Elton\, Bowie\, Beatles
DESCRIPTION:Elton\, Bowie\, Beatles; arguably the most influential music from the UK of the time! One of Perth’s premier vocalist Cathrine Summers and her groove band brings you an exciting evening of re-imagined classics from these incredible artists. \nEnjoy Cathrine’s charismatic\, fun loving style\, set within the beautiful rose garden of Lamont’s Bishops House. \n
URL:https://cathrinesummers.com.au/gig/fringeworld-cathrine-summers-elton-bowie-beatles/
LOCATION:Lamont’s Bishops House\, 90 Mounts Bay Road\, Perth\, WA\, Australia
END:VEVENT
END:VCALENDAR