BEGIN:VCALENDAR
VERSION:2.0
PRODID:-//Cathrine Summers - ECPv4.9.13//NONSGML v1.0//EN
CALSCALE:GREGORIAN
METHOD:PUBLISH
X-WR-CALNAME:Cathrine Summers
X-ORIGINAL-URL:https://cathrinesummers.com.au
X-WR-CALDESC:Events for Cathrine Summers
BEGIN:VTIMEZONE
TZID:Asia/Shanghai
BEGIN:STANDARD
TZOFFSETFROM:+0800
TZOFFSETTO:+0800
TZNAME:CST
DTSTART:20190101T000000
END:STANDARD
END:VTIMEZONE
BEGIN:VEVENT
DTSTART;TZID=Asia/Shanghai:20190808T183000
DTEND;TZID=Asia/Shanghai:20190808T213000
DTSTAMP:20200301T225038
CREATED:20190719T060622Z
LAST-MODIFIED:20190719T060622Z
UID:1264-1565289000-1565299800@cathrinesummers.com.au
SUMMARY:Great Ladies of Jazz at The Pen\, Mandurah
DESCRIPTION:Cathrine Summers\, brings you Great Ladies of Jazz\, a show with swinging classics paying homage to the great singers that have shaped and inspired jazz music of today. Together with her quartet\, Cathrine will present a host of toe-tapping favourites from the classic ladies of jazz such as Ella Fitzgerald\, Dinah Washington\, Billie Holiday\, Sarah Vaughan\, Nina Simone and Julie London. Also featuring in this delightful collection are songs from velvety\, playful and emotive iconic songs from the likes of Peggy Lee\, Edith Piaf and Doris Day. \nEnjoy this show as Cathrine weaves historic stories around effortlessly delivered well-known classics of love\, fun and adventure\, heartbreak\, loss and remorse. You’ll feel right there in the 30’s and 40’s when these great songs were written. \n
URL:https://cathrinesummers.com.au/gig/great-ladies-of-jazz-at-the-pen-mandurah/
LOCATION:The Pen\, 1 Marco Polo Drive\, Mandurah\, WA\, 6210\, Australia
END:VEVENT
END:VCALENDAR